BEGIN:VCALENDAR
VERSION:2.0
PRODID:-//Delta Deep Roots - ECPv6.15.20//NONSGML v1.0//EN
CALSCALE:GREGORIAN
METHOD:PUBLISH
X-ORIGINAL-URL:https://www.deltadeeproots.com
X-WR-CALDESC:Events for Delta Deep Roots
REFRESH-INTERVAL;VALUE=DURATION:PT1H
X-Robots-Tag:noindex
X-PUBLISHED-TTL:PT1H
BEGIN:VTIMEZONE
TZID:America/Chicago
BEGIN:DAYLIGHT
TZOFFSETFROM:-0600
TZOFFSETTO:-0500
TZNAME:CDT
DTSTART:20240310T080000
END:DAYLIGHT
BEGIN:STANDARD
TZOFFSETFROM:-0500
TZOFFSETTO:-0600
TZNAME:CST
DTSTART:20241103T070000
END:STANDARD
BEGIN:DAYLIGHT
TZOFFSETFROM:-0600
TZOFFSETTO:-0500
TZNAME:CDT
DTSTART:20250309T080000
END:DAYLIGHT
BEGIN:STANDARD
TZOFFSETFROM:-0500
TZOFFSETTO:-0600
TZNAME:CST
DTSTART:20251102T070000
END:STANDARD
BEGIN:DAYLIGHT
TZOFFSETFROM:-0600
TZOFFSETTO:-0500
TZNAME:CDT
DTSTART:20260308T080000
END:DAYLIGHT
BEGIN:STANDARD
TZOFFSETFROM:-0500
TZOFFSETTO:-0600
TZNAME:CST
DTSTART:20261101T070000
END:STANDARD
END:VTIMEZONE
BEGIN:VEVENT
DTSTART;TZID=America/Chicago:20250717T183000
DTEND;TZID=America/Chicago:20250717T203000
DTSTAMP:20260421T084042
CREATED:20250614T235324Z
LAST-MODIFIED:20250614T235324Z
UID:5561-1752777000-1752784200@www.deltadeeproots.com
SUMMARY:Deep Roots Summer Series - Guitar Frenchie @ Catfish Cabin
DESCRIPTION:This hot-shot southpaw guitarist from Nimes\, France\, funded his move to the States by selling his Gibson Les Paul guitar. He’s forged through a rough-and-tumble 20 years\, from jamming with blues legends to playing for hire. “I grew up on all American music — Rock ’n’ Roll and Blues — but back when I was playing in France I felt somewhat like a copycat\,” Frenchie says. “But as soon as I landed in the U.S. I felt at home\, because this was where the music I loved was born.” Although he’s played with many greats over the years\, Frenchie says “the highlight of my musical career was becoming a U.S. citizen” in August 2016. America has inspired Kevin “Frenchie” Sciou to follow his own path. From his humble beginnings to the sophomore release of his Frenchie’s Blues Destroyers album Praise: He defiantly beat the odds in his pursuit of the American Dream.” 
URL:https://www.deltadeeproots.com/event/deep-roots-summer-series-guitar-frenchie-catfish-cabin-2/
LOCATION:Catfish Cabin\, 122 TM Jones Hwy.\, Boyle\, MS\, 38730\, United States
CATEGORIES:2025 Deep Roots Summer Series
ATTACH;FMTTYPE=image/jpeg:https://www.deltadeeproots.com/wp-content/uploads/2025/02/Guitar-Frenchie.Landscape.jpeg
END:VEVENT
END:VCALENDAR