BEGIN:VCALENDAR
VERSION:2.0
PRODID:-//Delta Deep Roots - ECPv6.15.20//NONSGML v1.0//EN
CALSCALE:GREGORIAN
METHOD:PUBLISH
X-WR-CALNAME:Delta Deep Roots
X-ORIGINAL-URL:https://www.deltadeeproots.com
X-WR-CALDESC:Events for Delta Deep Roots
REFRESH-INTERVAL;VALUE=DURATION:PT1H
X-Robots-Tag:noindex
X-PUBLISHED-TTL:PT1H
BEGIN:VTIMEZONE
TZID:America/Chicago
BEGIN:DAYLIGHT
TZOFFSETFROM:-0600
TZOFFSETTO:-0500
TZNAME:CDT
DTSTART:20240310T080000
END:DAYLIGHT
BEGIN:STANDARD
TZOFFSETFROM:-0500
TZOFFSETTO:-0600
TZNAME:CST
DTSTART:20241103T070000
END:STANDARD
BEGIN:DAYLIGHT
TZOFFSETFROM:-0600
TZOFFSETTO:-0500
TZNAME:CDT
DTSTART:20250309T080000
END:DAYLIGHT
BEGIN:STANDARD
TZOFFSETFROM:-0500
TZOFFSETTO:-0600
TZNAME:CST
DTSTART:20251102T070000
END:STANDARD
BEGIN:DAYLIGHT
TZOFFSETFROM:-0600
TZOFFSETTO:-0500
TZNAME:CDT
DTSTART:20260308T080000
END:DAYLIGHT
BEGIN:STANDARD
TZOFFSETFROM:-0500
TZOFFSETTO:-0600
TZNAME:CST
DTSTART:20261101T070000
END:STANDARD
END:VTIMEZONE
BEGIN:VEVENT
DTSTART;TZID=America/Chicago:20250719T083000
DTEND;TZID=America/Chicago:20250719T110000
DTSTAMP:20260421T082834
CREATED:20250612T160335Z
LAST-MODIFIED:20250612T160335Z
UID:5539-1752913800-1752922800@www.deltadeeproots.com
SUMMARY:Cleveland MS Farmer-Bakers-Makers Market - Guitar Frenchie
DESCRIPTION:This hot-shot southpaw guitarist from Nimes\, France\, funded his move to the States by selling his Gibson Les Paul guitar. He’s forged through a rough-and-tumble 20 years\, from jamming with blues legends to playing for hire. “I grew up on all American music — Rock ’n’ Roll and Blues — but back when I was playing in France I felt somewhat like a copycat\,” Frenchie says. “But as soon as I landed in the U.S. I felt at home\, because this was where the music I loved was born.” Although he’s played with many greats over the years\, Frenchie says “the highlight of my musical career was becoming a U.S. citizen” in August 2016. America has inspired Kevin “Frenchie” Sciou to follow his own path. From his humble beginnings to the sophomore release of his Frenchie’s Blues Destroyers album Praise: He defiantly beat the odds in his pursuit of the American Dream.” 
URL:https://www.deltadeeproots.com/event/cleveland-ms-farmer-bakers-makers-market-guitar-frenchie/
LOCATION:Downtown Deck\, 215 Cotton Row\, Cleveland\, MS\, 38732\, United States
CATEGORIES:Cleveland MS Farmers-Bakers-Makers Market
ATTACH;FMTTYPE=image/jpeg:https://www.deltadeeproots.com/wp-content/uploads/2025/02/Guitar-Frenchie.Landscape.jpeg
ORGANIZER;CN="Cleveland MS Farmer's Market":MAILTO:clevelandfarmersmarket@gmail.com
END:VEVENT
BEGIN:VEVENT
DTSTART;TZID=America/Chicago:20250719T103000
DTEND;TZID=America/Chicago:20250719T123000
DTSTAMP:20260421T082834
CREATED:20250614T235550Z
LAST-MODIFIED:20250717T214149Z
UID:5563-1752921000-1752928200@www.deltadeeproots.com
SUMMARY:Deep Roots Summer Series - Brunch w/Alanna Mosley @ 8 West Grille
DESCRIPTION:Alanna Mosley is a singer-songwriter from Carrollton\, Mississippi. Her music—best described as Americana or roots—blurs genre lines\, and her cover tune catalog spans decades. With guitar in hand\, Mosley is an unstoppable jukebox of great music that invites the listener to keep humming along. At an early age\, Mosley was soaking in her music education: 90s guitar queens Patty Griffin and Shawn Colvin\, country rockers like Dwight Yoakam and Steve Earle\, and the gauntlet of great singer-songwriters from Carole King to Brandi Carlile. She began playing guitar at the age of 12 and hasn’t quit since. Over the years\, Mosley has built an impressive repertoire of cover songs while also honing her own songwriting skills. She released an EP of original music in 2014\, and in 2016 she was the winner of the prestigious Jimmie Rodgers Songwriting Competition. After living and gigging in Charlotte\, North Carolina for several years\, she returned to the Mississippi Delta in full force. If you’re a lover of great music in need of some shade\, find out where Alanna Mosley might be playing near you at www.alannamosley.com.
URL:https://www.deltadeeproots.com/event/deep-roots-summer-series-alanna-mosley-8-west-grille-2/
LOCATION:8 West Grille\, 1300 Hwy. 8 West\, Cleveland\, MS\, 38732\, United States
CATEGORIES:2025 Deep Roots Summer Series
ATTACH;FMTTYPE=image/jpeg:https://www.deltadeeproots.com/wp-content/uploads/2025/01/A.Mosley.Landscape.jpeg
END:VEVENT
END:VCALENDAR