BEGIN:VCALENDAR
VERSION:2.0
PRODID:-//Delta Deep Roots - ECPv6.15.20//NONSGML v1.0//EN
CALSCALE:GREGORIAN
METHOD:PUBLISH
X-WR-CALNAME:Delta Deep Roots
X-ORIGINAL-URL:https://www.deltadeeproots.com
X-WR-CALDESC:Events for Delta Deep Roots
REFRESH-INTERVAL;VALUE=DURATION:PT1H
X-Robots-Tag:noindex
X-PUBLISHED-TTL:PT1H
BEGIN:VTIMEZONE
TZID:America/Chicago
BEGIN:DAYLIGHT
TZOFFSETFROM:-0600
TZOFFSETTO:-0500
TZNAME:CDT
DTSTART:20240310T080000
END:DAYLIGHT
BEGIN:STANDARD
TZOFFSETFROM:-0500
TZOFFSETTO:-0600
TZNAME:CST
DTSTART:20241103T070000
END:STANDARD
BEGIN:DAYLIGHT
TZOFFSETFROM:-0600
TZOFFSETTO:-0500
TZNAME:CDT
DTSTART:20250309T080000
END:DAYLIGHT
BEGIN:STANDARD
TZOFFSETFROM:-0500
TZOFFSETTO:-0600
TZNAME:CST
DTSTART:20251102T070000
END:STANDARD
BEGIN:DAYLIGHT
TZOFFSETFROM:-0600
TZOFFSETTO:-0500
TZNAME:CDT
DTSTART:20260308T080000
END:DAYLIGHT
BEGIN:STANDARD
TZOFFSETFROM:-0500
TZOFFSETTO:-0600
TZNAME:CST
DTSTART:20261101T070000
END:STANDARD
END:VTIMEZONE
BEGIN:VEVENT
DTSTART;TZID=America/Chicago:20250725T180000
DTEND;TZID=America/Chicago:20250725T193000
DTSTAMP:20260421T082325
CREATED:20250624T033704Z
LAST-MODIFIED:20250624T033704Z
UID:5601-1753466400-1753471800@www.deltadeeproots.com
SUMMARY:Deep Roots: Live Downtown! - Gran Boiz
DESCRIPTION:The Gran Boiz are a dynamic roots trio based in the Mississippi Delta. Their blend of R&B\, soul\, and blues is a perfect combination for bringing people of all backgrounds together under the sweet strains of foot-stomping\, hip-swaying music. Fronted by brothers Marcus and Lewon Payne of Renova\, MS\, The Gran Boiz have been playing across the region for decades. The Gran Boiz play blues\, R&B\, soul\, gospel\, pop\, reggae\, and even country\, and they aim to entertain their audiences by playing some of the best roots music in the Delta.
URL:https://www.deltadeeproots.com/event/deep-roots-live-downtown-gran-boiz-2/
LOCATION:Downtown Deck\, 215 Cotton Row\, Cleveland\, MS\, 38732\, United States
CATEGORIES:Deep Roots: Live Downtown!
ATTACH;FMTTYPE=image/jpeg:https://www.deltadeeproots.com/wp-content/uploads/2025/06/Gran-Boiz-duo.Landscape.jpg
END:VEVENT
BEGIN:VEVENT
DTSTART;TZID=America/Chicago:20250725T190000
DTEND;TZID=America/Chicago:20250725T210000
DTSTAMP:20260421T082325
CREATED:20250615T000444Z
LAST-MODIFIED:20250615T000444Z
UID:5569-1753470000-1753477200@www.deltadeeproots.com
SUMMARY:Deep Roots Summer Series - Guitar Frenchie @ Bar Fontaine
DESCRIPTION:This hot-shot southpaw guitarist from Nimes\, France\, funded his move to the States by selling his Gibson Les Paul guitar. He’s forged through a rough-and-tumble 20 years\, from jamming with blues legends to playing for hire. “I grew up on all American music — Rock ’n’ Roll and Blues — but back when I was playing in France I felt somewhat like a copycat\,” Frenchie says. “But as soon as I landed in the U.S. I felt at home\, because this was where the music I loved was born.” Although he’s played with many greats over the years\, Frenchie says “the highlight of my musical career was becoming a U.S. citizen” in August 2016. America has inspired Kevin “Frenchie” Sciou to follow his own path. From his humble beginnings to the sophomore release of his Frenchie’s Blues Destroyers album Praise: He defiantly beat the odds in his pursuit of the American Dream.” 
URL:https://www.deltadeeproots.com/event/deep-roots-summer-series-guitar-frenchie-bar-fontaine-3/
LOCATION:Bar Fontaine\, 215 Cotton Row\, Cleveland\, MS\, 38732\, United States
CATEGORIES:2025 Deep Roots Summer Series
ATTACH;FMTTYPE=image/jpeg:https://www.deltadeeproots.com/wp-content/uploads/2025/02/Guitar-Frenchie.Landscape.jpeg
END:VEVENT
END:VCALENDAR