BEGIN:VCALENDAR
VERSION:2.0
PRODID:-//Delta Deep Roots - ECPv6.15.20//NONSGML v1.0//EN
CALSCALE:GREGORIAN
METHOD:PUBLISH
X-WR-CALNAME:Delta Deep Roots
X-ORIGINAL-URL:https://www.deltadeeproots.com
X-WR-CALDESC:Events for Delta Deep Roots
REFRESH-INTERVAL;VALUE=DURATION:PT1H
X-Robots-Tag:noindex
X-PUBLISHED-TTL:PT1H
BEGIN:VTIMEZONE
TZID:America/Chicago
BEGIN:DAYLIGHT
TZOFFSETFROM:-0600
TZOFFSETTO:-0500
TZNAME:CDT
DTSTART:20240310T080000
END:DAYLIGHT
BEGIN:STANDARD
TZOFFSETFROM:-0500
TZOFFSETTO:-0600
TZNAME:CST
DTSTART:20241103T070000
END:STANDARD
BEGIN:DAYLIGHT
TZOFFSETFROM:-0600
TZOFFSETTO:-0500
TZNAME:CDT
DTSTART:20250309T080000
END:DAYLIGHT
BEGIN:STANDARD
TZOFFSETFROM:-0500
TZOFFSETTO:-0600
TZNAME:CST
DTSTART:20251102T070000
END:STANDARD
BEGIN:DAYLIGHT
TZOFFSETFROM:-0600
TZOFFSETTO:-0500
TZNAME:CDT
DTSTART:20260308T080000
END:DAYLIGHT
BEGIN:STANDARD
TZOFFSETFROM:-0500
TZOFFSETTO:-0600
TZNAME:CST
DTSTART:20261101T070000
END:STANDARD
END:VTIMEZONE
BEGIN:VEVENT
DTSTART;TZID=America/Chicago:20250726T083000
DTEND;TZID=America/Chicago:20250726T110000
DTSTAMP:20260421T083218
CREATED:20250624T031108Z
LAST-MODIFIED:20250624T031108Z
UID:5595-1753518600-1753527600@www.deltadeeproots.com
SUMMARY:Cleveland\, MS Farmers-Bakers-Makers Market - Chris "Brisket" Livingston
DESCRIPTION:Chris “Brisket” Livingston is a singer/songwriter from the birthplace of American Music\, the great state of Mississippi.  He plays acoustic\, electric\, and bass guitar\, harmonica and trombone.  Chris has been performing for audiences around the Southeastern United States for over 25 years.  His original and cover songs are inspired by legendary artists such as John Prine\, Bob Dylan\, Willie Nelson\, Tom Petty\, Grateful Dead\, and Widespread Panic.  He is currently performing solo acoustic shows at local venues around the Mississippi Delta and playing bass guitar with the band Pharmtruck out of Oxford\, MS.
URL:https://www.deltadeeproots.com/event/cleveland-ms-farmers-bakers-makers-market-chris-brisket-livingston/
LOCATION:Downtown Deck\, 215 Cotton Row\, Cleveland\, MS\, 38732\, United States
CATEGORIES:Cleveland MS Farmers-Bakers-Makers Market
ATTACH;FMTTYPE=image/jpeg:https://www.deltadeeproots.com/wp-content/uploads/2025/04/C.-Livingston-2-bw.Landscape.jpg
ORGANIZER;CN="Cleveland MS Farmer's Market":MAILTO:clevelandfarmersmarket@gmail.com
END:VEVENT
BEGIN:VEVENT
DTSTART;TZID=America/Chicago:20250726T103000
DTEND;TZID=America/Chicago:20250726T123000
DTSTAMP:20260421T083218
CREATED:20250615T000658Z
LAST-MODIFIED:20250725T145100Z
UID:5571-1753525800-1753533000@www.deltadeeproots.com
SUMMARY:Deep Roots Summer Series - Brunch w/Mary Claire @ 8 West Grille
DESCRIPTION:Vocalist/pianist Mary Claire Rackley from Gulfport\, Mississippi\, is a recent graduate of the DMI Entertainment Industry Studies program at Delta State University. She performed with the DMI All-Stars in Los Angeles as part of the GRAMMY Museum’s ‘Mississippi Night’ in 2019. She recently completed a graduate degree at Delta State and continues to perform around throughout the Mississippi Delta region as a singer/songwriter and as lead singer of the rock band Elektra.
URL:https://www.deltadeeproots.com/event/deep-roots-summer-series-mary-claire-8-west-grille/
LOCATION:8 West Grille\, 1300 Hwy. 8 West\, Cleveland\, MS\, 38732\, United States
CATEGORIES:2025 Deep Roots Summer Series
ATTACH;FMTTYPE=image/jpeg:https://www.deltadeeproots.com/wp-content/uploads/2025/01/MC.Landscape.jpg
END:VEVENT
END:VCALENDAR