BEGIN:VCALENDAR
VERSION:2.0
PRODID:-//Delta Deep Roots - ECPv6.15.20//NONSGML v1.0//EN
CALSCALE:GREGORIAN
METHOD:PUBLISH
X-ORIGINAL-URL:https://www.deltadeeproots.com
X-WR-CALDESC:Events for Delta Deep Roots
REFRESH-INTERVAL;VALUE=DURATION:PT1H
X-Robots-Tag:noindex
X-PUBLISHED-TTL:PT1H
BEGIN:VTIMEZONE
TZID:America/Chicago
BEGIN:DAYLIGHT
TZOFFSETFROM:-0600
TZOFFSETTO:-0500
TZNAME:CDT
DTSTART:20240310T080000
END:DAYLIGHT
BEGIN:STANDARD
TZOFFSETFROM:-0500
TZOFFSETTO:-0600
TZNAME:CST
DTSTART:20241103T070000
END:STANDARD
BEGIN:DAYLIGHT
TZOFFSETFROM:-0600
TZOFFSETTO:-0500
TZNAME:CDT
DTSTART:20250309T080000
END:DAYLIGHT
BEGIN:STANDARD
TZOFFSETFROM:-0500
TZOFFSETTO:-0600
TZNAME:CST
DTSTART:20251102T070000
END:STANDARD
BEGIN:DAYLIGHT
TZOFFSETFROM:-0600
TZOFFSETTO:-0500
TZNAME:CDT
DTSTART:20260308T080000
END:DAYLIGHT
BEGIN:STANDARD
TZOFFSETFROM:-0500
TZOFFSETTO:-0600
TZNAME:CST
DTSTART:20261101T070000
END:STANDARD
END:VTIMEZONE
BEGIN:VEVENT
DTSTART;TZID=America/Chicago:20250411T190000
DTEND;TZID=America/Chicago:20250411T210000
DTSTAMP:20260419T101217
CREATED:20250326T161713Z
LAST-MODIFIED:20250326T161713Z
UID:5380-1744398000-1744405200@www.deltadeeproots.com
SUMMARY:Deep Roots Spring Series - Mississippi Marshall @ 8 West Grille
DESCRIPTION:Mississippi Marshall is a singer/songwriter/guitarist raised right in the heart of the Mississippi Delta. Marshall’s original guitar stylings range from old style Delta Blues to in-your-face blues boogie. His original music reflects his life experiences and for over 30 years\, he has toured the country\, headlining Blues clubs and festivals\, including the Juke Joint Festival\, Unity Festival\, World Catfish Festival\, Que on the Yazoo\, and the Sam Chatmon Festival\, both as a solo artist and with his band\, The Juke Daddys. Mississippi Marshall is a two-time International Blues Challenge Semi-Finalist and a Mississippi Music Foundation award winner for Best Instrumental.  Marshall and his grandson\, Grayson\, were semifinalists  at the 2024 International Blues Challenge in Memphis\, TN. He recently released his fourth album titled I Believe I’ll Go Back Home.
URL:https://www.deltadeeproots.com/event/deep-roots-spring-series-mississippi-marshall-8-west-grille/
LOCATION:8 West Grille\, 1300 Hwy. 8 West\, Cleveland\, MS\, 38732\, United States
CATEGORIES:2025 Deep Roots Spring Series
ATTACH;FMTTYPE=image/jpeg:https://www.deltadeeproots.com/wp-content/uploads/2025/01/MS-Marshall.Landscape-scaled.jpg
END:VEVENT
BEGIN:VEVENT
DTSTART;TZID=America/Chicago:20250408T183000
DTEND;TZID=America/Chicago:20250408T203000
DTSTAMP:20260419T101217
CREATED:20250326T161413Z
LAST-MODIFIED:20250407T203810Z
UID:5378-1744137000-1744144200@www.deltadeeproots.com
SUMMARY:Deep Roots Spring Series - Mary Claire @ Backdraft
DESCRIPTION:Vocalist/pianist Mary Claire Rackley from Gulfport\, Mississippi\, is a graduate of the DMI Entertainment Industry Studies program at Delta State University. She performed with the DMI All-Stars in Los Angeles as part of the GRAMMY Museum’s ‘Mississippi Night’ in 2019. When is not performing solo\, she is the lead singer for the rock band\, Elektra\, based out of Cleveland.
URL:https://www.deltadeeproots.com/event/deep-roots-spring-series-guitar-frenchie-backdraft/
LOCATION:Backdraft\, 337 Cotton Row\, Cleveland\, MS\, 38732\, United States
CATEGORIES:2025 Deep Roots Spring Series
ATTACH;FMTTYPE=image/jpeg:https://www.deltadeeproots.com/wp-content/uploads/2025/01/MC.Landscape.jpg
END:VEVENT
BEGIN:VEVENT
DTSTART;TZID=America/Chicago:20250407T183000
DTEND;TZID=America/Chicago:20250407T203000
DTSTAMP:20260419T101218
CREATED:20250326T161107Z
LAST-MODIFIED:20250326T161107Z
UID:5376-1744050600-1744057800@www.deltadeeproots.com
SUMMARY:Deep Roots Spring Series - Alanna Mosley @ Backdraft
DESCRIPTION:Alanna Mosley is a singer-songwriter from Carrollton\, Mississippi. Her music—best described as Americana or roots—blurs genre lines\, and her cover tune catalog spans decades. With guitar in hand\, Mosley is an unstoppable jukebox of great music that invites the listener to keep humming along. At an early age\, Mosley was soaking in her music education: 90s guitar queens Patty Griffin and Shawn Colvin\, country rockers like Dwight Yoakam and Steve Earle\, and the gauntlet of great singer-songwriters from Carole King to Brandi Carlile. She began playing guitar at the age of 12 and hasn’t quit since. Over the years\, Mosley has built an impressive repertoire of cover songs while also honing her own songwriting skills. She released an EP of original music in 2014\, and in 2016 she was the winner of the prestigious Jimmie Rodgers Songwriting Competition. After living and gigging in Charlotte\, North Carolina for several years\, she returned to the Mississippi Delta in full force. If you’re a lover of great music in need of some shade\, find out where Alanna Mosley might be playing near you at www.alannamosley.com.
URL:https://www.deltadeeproots.com/event/deep-roots-spring-series-alanna-mosley-backdraft/
LOCATION:Backdraft\, 337 Cotton Row\, Cleveland\, MS\, 38732\, United States
CATEGORIES:2025 Deep Roots Spring Series
ATTACH;FMTTYPE=image/jpeg:https://www.deltadeeproots.com/wp-content/uploads/2025/01/A.Mosley.Landscape.jpeg
END:VEVENT
BEGIN:VEVENT
DTSTART;TZID=America/Chicago:20250405T190000
DTEND;TZID=America/Chicago:20250405T210000
DTSTAMP:20260419T101218
CREATED:20250326T160512Z
LAST-MODIFIED:20250326T160512Z
UID:5374-1743879600-1743886800@www.deltadeeproots.com
SUMMARY:Deep Roots Spring Series - Guitar Frenchie @ 8 West Grille
DESCRIPTION:This hot-shot southpaw guitarist from Nimes\, France\, funded his move to the States by selling his Gibson Les Paul guitar. He’s forged through a rough-and-tumble 20 years\, from jamming with blues legends to playing for hire. “I grew up on all American music — Rock ’n’ Roll and Blues — but back when I was playing in France I felt somewhat like a copycat\,” Frenchie says. “But as soon as I landed in the U.S. I felt at home\, because this was where the music I loved was born.” Although he’s played with many greats over the years\, Frenchie says “the highlight of my musical career was becoming a U.S. citizen” in August 2016. America has inspired Kevin “Frenchie” Sciou to follow his own path. From his humble beginnings to the sophomore release of his Frenchie’s Blues Destroyers album Praise: He defiantly beat the odds in his pursuit of the American Dream.” 
URL:https://www.deltadeeproots.com/event/deep-roots-spring-series-guitar-frenchie-8-west-grille/
LOCATION:8 West Grille\, 1300 Hwy. 8 West\, Cleveland\, MS\, 38732\, United States
CATEGORIES:2025 Deep Roots Spring Series
ATTACH;FMTTYPE=image/jpeg:https://www.deltadeeproots.com/wp-content/uploads/2025/02/Guitar-Frenchie.Landscape.jpeg
END:VEVENT
BEGIN:VEVENT
DTSTART;TZID=America/Chicago:20250404T190000
DTEND;TZID=America/Chicago:20250404T210000
DTSTAMP:20260419T101218
CREATED:20250326T160157Z
LAST-MODIFIED:20250326T160539Z
UID:5372-1743793200-1743800400@www.deltadeeproots.com
SUMMARY:Deep Roots Spring Series - Michael 'Cadillac' Dennis @ 8 West Grille
DESCRIPTION:Born and raised in the Mississippi Delta\, ‘Cadillac’ Dennis’ musical journey began with singing and playing drums with the church choir as a kid.  While majoring in music at Mississippi Valley State University\, he began dabbling with guitar and piano.  This led to his playing in a number of Gospel bands in his twenties\, before starting to play guitar for various Blues artists. Dennis formed his own band\, the Big Time Rhythm & Blues Band in the spring of 2010 and booked performances throughout the South\, Northwest\, and even Hawaii.  He recently released a single\, “2X Woman”\, which he co-produced with the help of another Deep Roots musician\, Eric Edwards.
URL:https://www.deltadeeproots.com/event/deep-roots-spring-series-michael-cadillac-dennis-8-west-grille/
LOCATION:8 West Grille\, 1300 Hwy. 8 West\, Cleveland\, MS\, 38732\, United States
CATEGORIES:2025 Deep Roots Spring Series
ATTACH;FMTTYPE=image/jpeg:https://www.deltadeeproots.com/wp-content/uploads/2025/01/Cadillac-Dennis.Landscape.jpg
END:VEVENT
BEGIN:VEVENT
DTSTART;TZID=America/Chicago:20250401T183000
DTEND;TZID=America/Chicago:20250401T203000
DTSTAMP:20260419T101218
CREATED:20250326T155909Z
LAST-MODIFIED:20250326T160607Z
UID:5370-1743532200-1743539400@www.deltadeeproots.com
SUMMARY:Deep Roots Spring Series - Neshun @ Backdraft
DESCRIPTION:Vocalist Neshun Holmes from McComb\, Mississippi\, is a graduate of the DMI Entertainment Industry Studies program at Delta State University. She performed with the DMI All-Stars in Los Angeles as part of the GRAMMY Museum’s ‘Mississippi Night’ in 2019. She recently earned a graduate degree from Delta State while performing around town and working as a local barista. Her back up musician is Nick Aultman\, guitarist and current entertainment industry studies major at Delta State.
URL:https://www.deltadeeproots.com/event/deep-roots-spring-series-neshun-backdraft/
LOCATION:Backdraft\, 337 Cotton Row\, Cleveland\, MS\, 38732\, United States
CATEGORIES:2025 Deep Roots Spring Series
ATTACH;FMTTYPE=image/jpeg:https://www.deltadeeproots.com/wp-content/uploads/2025/01/Neshun.Landscape1.jpeg
END:VEVENT
BEGIN:VEVENT
DTSTART;TZID=America/Chicago:20250331T183000
DTEND;TZID=America/Chicago:20250331T203000
DTSTAMP:20260419T101218
CREATED:20250326T155606Z
LAST-MODIFIED:20250326T160632Z
UID:5368-1743445800-1743453000@www.deltadeeproots.com
SUMMARY:Deep Roots Spring Series - Tony Boyd @ Backdraft
DESCRIPTION:Tony Boyd is a solo musician from North Mississippi and has been playing music for over three decades\, showcasing a variety of country\, blues\, and folk music.
URL:https://www.deltadeeproots.com/event/deep-roots-spring-series-tony-boyd-backdraft/
LOCATION:Backdraft\, 337 Cotton Row\, Cleveland\, MS\, 38732\, United States
CATEGORIES:2025 Deep Roots Spring Series
ATTACH;FMTTYPE=image/jpeg:https://www.deltadeeproots.com/wp-content/uploads/2024/12/T.-Boyd.Landscape.jpeg
END:VEVENT
END:VCALENDAR