BEGIN:VCALENDAR
VERSION:2.0
PRODID:-//Delta Deep Roots - ECPv6.15.20//NONSGML v1.0//EN
CALSCALE:GREGORIAN
METHOD:PUBLISH
X-WR-CALNAME:Delta Deep Roots
X-ORIGINAL-URL:https://www.deltadeeproots.com
X-WR-CALDESC:Events for Delta Deep Roots
REFRESH-INTERVAL;VALUE=DURATION:PT1H
X-Robots-Tag:noindex
X-PUBLISHED-TTL:PT1H
BEGIN:VTIMEZONE
TZID:America/Chicago
BEGIN:DAYLIGHT
TZOFFSETFROM:-0600
TZOFFSETTO:-0500
TZNAME:CDT
DTSTART:20250309T080000
END:DAYLIGHT
BEGIN:STANDARD
TZOFFSETFROM:-0500
TZOFFSETTO:-0600
TZNAME:CST
DTSTART:20251102T070000
END:STANDARD
BEGIN:DAYLIGHT
TZOFFSETFROM:-0600
TZOFFSETTO:-0500
TZNAME:CDT
DTSTART:20260308T080000
END:DAYLIGHT
BEGIN:STANDARD
TZOFFSETFROM:-0500
TZOFFSETTO:-0600
TZNAME:CST
DTSTART:20261101T070000
END:STANDARD
BEGIN:DAYLIGHT
TZOFFSETFROM:-0600
TZOFFSETTO:-0500
TZNAME:CDT
DTSTART:20270314T080000
END:DAYLIGHT
BEGIN:STANDARD
TZOFFSETFROM:-0500
TZOFFSETTO:-0600
TZNAME:CST
DTSTART:20271107T070000
END:STANDARD
END:VTIMEZONE
BEGIN:VEVENT
DTSTART;TZID=America/Chicago:20260515T180000
DTEND;TZID=America/Chicago:20260515T210000
DTSTAMP:20260423T104207
CREATED:20260422T002656Z
LAST-MODIFIED:20260422T002656Z
UID:6514-1778868000-1778878800@www.deltadeeproots.com
SUMMARY:Mississippi Songwriters Festival - Delta Region
DESCRIPTION:The Mississippi Songwriters Festival – Delta Region\, with support from Visit Mississippi and Visit Cleveland\, will feature hit songwriters Bryan Kennedy and Ken Hart along with 20+ regional songwriters\, performing original songs in an ‘in the round’ setting at GRAMMY Museum Mississippi. Regional songwriters will perform from 6:00-9:00 pm on Friday evening\, May 15\, and 3:00-6:00 pm on Saturday afternoon\, May 16\, with each writer round performing in 50 minutes sets. The finale round\, featuring two professional guest songwriters from Nashville\, begins at 7 pm on Saturday night\, May 16. All the songwriter shows are free and open to the public. \n \n \nScreenshot
URL:https://www.deltadeeproots.com/event/mississippi-songwriters-festival-delta-region-5/
LOCATION:GRAMMY Museum® Mississippi\, 800 W Sunflower Rd\, Cleveland\, MS\, 38732\, United States
CATEGORIES:Special Events
ATTACH;FMTTYPE=image/png:https://www.deltadeeproots.com/wp-content/uploads/2026/04/Screenshot-2026-04-21-at-7.19.24-PM.png
END:VEVENT
END:VCALENDAR