BEGIN:VCALENDAR
VERSION:2.0
PRODID:-//Delta Deep Roots - ECPv6.15.20//NONSGML v1.0//EN
CALSCALE:GREGORIAN
METHOD:PUBLISH
X-WR-CALNAME:Delta Deep Roots
X-ORIGINAL-URL:https://www.deltadeeproots.com
X-WR-CALDESC:Events for Delta Deep Roots
REFRESH-INTERVAL;VALUE=DURATION:PT1H
X-Robots-Tag:noindex
X-PUBLISHED-TTL:PT1H
BEGIN:VTIMEZONE
TZID:America/Chicago
BEGIN:DAYLIGHT
TZOFFSETFROM:-0600
TZOFFSETTO:-0500
TZNAME:CDT
DTSTART:20250309T080000
END:DAYLIGHT
BEGIN:STANDARD
TZOFFSETFROM:-0500
TZOFFSETTO:-0600
TZNAME:CST
DTSTART:20251102T070000
END:STANDARD
BEGIN:DAYLIGHT
TZOFFSETFROM:-0600
TZOFFSETTO:-0500
TZNAME:CDT
DTSTART:20260308T080000
END:DAYLIGHT
BEGIN:STANDARD
TZOFFSETFROM:-0500
TZOFFSETTO:-0600
TZNAME:CST
DTSTART:20261101T070000
END:STANDARD
BEGIN:DAYLIGHT
TZOFFSETFROM:-0600
TZOFFSETTO:-0500
TZNAME:CDT
DTSTART:20270314T080000
END:DAYLIGHT
BEGIN:STANDARD
TZOFFSETFROM:-0500
TZOFFSETTO:-0600
TZNAME:CST
DTSTART:20271107T070000
END:STANDARD
END:VTIMEZONE
BEGIN:VEVENT
DTSTART;TZID=America/Chicago:20260420T190000
DTEND;TZID=America/Chicago:20260420T210000
DTSTAMP:20260419T085856
CREATED:20260330T012211Z
LAST-MODIFIED:20260330T012211Z
UID:6432-1776711600-1776718800@www.deltadeeproots.com
SUMMARY:Deep Roots 2026 Spring Series - Charles Sullivan @ Bar Fontaine
DESCRIPTION:Singer/songwriter Charles Sullivan is a member of the Delta String Band\, an Americana band based out of Greenville\, Mississippi. Similar to what the band presents\, Sullivan sings a variety of styles\, from folk and bluegrass to straight-up country. With influences like bluegrass great Ralph Stanley\, folk master John Prine\, pure country kings Johnny Cash and Waylon Jennings\, and even genre-fusing groups like the Grateful Dead\, Sullivan brings his own flavor to the music he plays\, and that “old school way” means playing music in its truest\, purest\, stripped-down form.
URL:https://www.deltadeeproots.com/event/deep-roots-2026-spring-series-charles-sullivan-bar-fontaine/
LOCATION:Bar Fontaine\, 215 Cotton Row\, Cleveland\, MS\, 38732\, United States
CATEGORIES:2026 Deep roots Spring Series
ATTACH;FMTTYPE=image/jpeg:https://www.deltadeeproots.com/wp-content/uploads/2025/02/C.Sullivan.Landscape-scaled.jpg
END:VEVENT
BEGIN:VEVENT
DTSTART;TZID=America/Chicago:20260421T183000
DTEND;TZID=America/Chicago:20260421T203000
DTSTAMP:20260419T085856
CREATED:20260330T012539Z
LAST-MODIFIED:20260330T012539Z
UID:6434-1776796200-1776803400@www.deltadeeproots.com
SUMMARY:Deep Roots 2026 Spring Series - Mississippi Marshall @ Backdraft
DESCRIPTION:Mississippi Marshall is a singer/songwriter/guitarist raised right in the heart of the Mississippi Delta. Marshall’s original guitar stylings range from old style Delta Blues to in-your-face blues boogie. His original music reflects his life experiences and for over 30 years\, he has toured the country\, headlining Blues clubs and festivals\, including the Juke Joint Festival\, Unity Festival\, World Catfish Festival\, Que on the Yazoo\, and the Sam Chatmon Festival\, both as a solo artist and with his band\, The Juke Daddys. \nMississippi Marshall is a two-time International Blues Challenge Semi-Finalist and a Mississippi Music Foundation award winner for Best Instrumental.  Marshall and his grandson\, Grayson\, were semifinalists  at the 2024 International Blues Challenge in Memphis\, TN. He recently released his fourth album titled I Believe I’ll Go Back Home.
URL:https://www.deltadeeproots.com/event/deep-roots-2026-spring-series-mississippi-marshall-backdraft-3/
LOCATION:Backdraft\, 337 Cotton Row\, Cleveland\, MS\, 38732\, United States
CATEGORIES:2026 Deep roots Spring Series
ATTACH;FMTTYPE=image/jpeg:https://www.deltadeeproots.com/wp-content/uploads/2025/11/Mississippi-Marshall-2.landscapre.jpeg
END:VEVENT
BEGIN:VEVENT
DTSTART;TZID=America/Chicago:20260423T190000
DTEND;TZID=America/Chicago:20260423T210000
DTSTAMP:20260419T085856
CREATED:20260330T012933Z
LAST-MODIFIED:20260330T012933Z
UID:6436-1776970800-1776978000@www.deltadeeproots.com
SUMMARY:Deep Roots 2026 Spring Series - Alanna Mosley @ Bar Fontaine
DESCRIPTION:Alanna Mosley is a singer-songwriter from Carrollton\, Mississippi. Her music—best described as Americana or roots—blurs genre lines\, and her cover tune catalog spans decades. With guitar in hand\, Mosley is an unstoppable jukebox of great music that invites the listener to keep humming along. \nAt an early age\, Mosley was soaking in her music education: 90s guitar queens Patty Griffin and Shawn Colvin\, country rockers like Dwight Yoakam and Steve Earle\, and the gauntlet of great singer-songwriters from Carole King to Brandi Carlile. She began playing guitar at the age of 12 and hasn’t quit since. Over the years\, Mosley has built an impressive repertoire of cover songs while also honing her own songwriting skills. She released an EP of original music in 2014\, and in 2016 she was the winner of the prestigious Jimmie Rodgers Songwriting Competition. After living and gigging in Charlotte\, North Carolina for several years\, she returned to the Mississippi Delta in full force. If you’re a lover of great music in need of some shade\, find out where Alanna Mosley might be playing near you at www.alannamosley.com.
URL:https://www.deltadeeproots.com/event/deep-roots-2026-spring-series-alanna-mosley-bar-fontaine-3/
LOCATION:Bar Fontaine\, 215 Cotton Row\, Cleveland\, MS\, 38732\, United States
CATEGORIES:2026 Deep roots Spring Series
ATTACH;FMTTYPE=image/jpeg:https://www.deltadeeproots.com/wp-content/uploads/2025/10/2025_Landscape-scaled.jpeg
END:VEVENT
BEGIN:VEVENT
DTSTART;TZID=America/Chicago:20260424T190000
DTEND;TZID=America/Chicago:20260424T210000
DTSTAMP:20260419T085856
CREATED:20260330T013148Z
LAST-MODIFIED:20260330T013148Z
UID:6438-1777057200-1777064400@www.deltadeeproots.com
SUMMARY:Deep Roots 2026 Spring Series - Neshun @ Bar Fontaine
DESCRIPTION:Vocalist Neshun Holmes from McComb\, Mississippi\, is a graduate of the DMI Entertainment Industry Studies program at Delta State University. She performed with the DMI All-Stars in Los Angeles as part of the GRAMMY Museum’s ‘Mississippi Night’ in 2019. She recently earned a graduate degree from Delta State while performing around town and working as a local barista.
URL:https://www.deltadeeproots.com/event/deep-roots-2026-spring-series-neshun-bar-fontaine-2/
LOCATION:Bar Fontaine\, 215 Cotton Row\, Cleveland\, MS\, 38732\, United States
CATEGORIES:2026 Deep roots Spring Series
ATTACH;FMTTYPE=image/jpeg:https://www.deltadeeproots.com/wp-content/uploads/2026/01/6338942520565232965.jpeg
END:VEVENT
BEGIN:VEVENT
DTSTART;TZID=America/Chicago:20260425T190000
DTEND;TZID=America/Chicago:20260425T210000
DTSTAMP:20260419T085856
CREATED:20260330T013435Z
LAST-MODIFIED:20260330T013435Z
UID:6440-1777143600-1777150800@www.deltadeeproots.com
SUMMARY:Deep Roots 2026 Spring Series - Billy Maines @ Backdraft
DESCRIPTION:Americana singer/songwriter Billy Maines grew up in the foothills of the Catskill Mountains in a village on the Hudson River near Woodstock\, New York. He started taking guitar lessons at an early age and played in various rock bands during high school. While attending college at Cortland College in New York\, Billy began honing his writing skills for a performing duo. \nAfter graduation\, Maines relocated to Boulder\, Colorado\, where the wide open music scene inspired his writing and encouraged his performing with different bands up and down the ‘front range’ of the Rockies. He plays guitar\, harmonica\, mandolin\, and fiddle across genres of Americana\, Alternative Rock and the Blues. He credits his main musical influences as The Band\, Neil Young\, Muddy Waters\, and Bob Dylan. \nAfter moving to the Mississippi Delta in 2004\, he learned to appreciate the rich heritage of the music of Mississippi\, began to perform as a solo artist and continues to do so today.
URL:https://www.deltadeeproots.com/event/deep-roots-2026-spring-series-billy-maines-backdraft-3/
LOCATION:Backdraft\, 337 Cotton Row\, Cleveland\, MS\, 38732\, United States
CATEGORIES:2026 Deep roots Spring Series
ATTACH;FMTTYPE=image/jpeg:https://www.deltadeeproots.com/wp-content/uploads/2025/11/IMG_4990-scaled.jpeg
END:VEVENT
BEGIN:VEVENT
DTSTART;TZID=America/Chicago:20260427T190000
DTEND;TZID=America/Chicago:20260427T210000
DTSTAMP:20260419T085856
CREATED:20260330T013714Z
LAST-MODIFIED:20260330T013714Z
UID:6442-1777316400-1777323600@www.deltadeeproots.com
SUMMARY:Deep Roots 2026 Spring Series - Delta String Band @ Bar Fontaine
DESCRIPTION:Roots musicians Charles Sullivan and Cody Ruth are members of the Delta String Band\, an Americana band based out of Greenville\, Mississippi. Similar to what the band presents\, Charles and Cody sing a variety of styles\, from folk and bluegrass to straight-up country. With influences like bluegrass great Ralph Stanley\, folk master John Prine\, pure country kings Johnny Cash and Waylon Jennings\, and even genre-fusing groups like the Grateful Dead\, this duo brings their own flavor to the music they plays\, and that “old school way” means playing music in its truest\, purest\, stripped-down form.
URL:https://www.deltadeeproots.com/event/deep-roots-2026-spring-series-delta-string-band-bar-fontaine-2/
LOCATION:Bar Fontaine\, 215 Cotton Row\, Cleveland\, MS\, 38732\, United States
CATEGORIES:2026 Deep roots Spring Series
ATTACH;FMTTYPE=image/jpeg:https://www.deltadeeproots.com/wp-content/uploads/2025/09/Delta-String-Band_duo-scaled-e1758504437299.jpeg
END:VEVENT
BEGIN:VEVENT
DTSTART;TZID=America/Chicago:20260428T183000
DTEND;TZID=America/Chicago:20260428T203000
DTSTAMP:20260419T085856
CREATED:20260330T013934Z
LAST-MODIFIED:20260330T013934Z
UID:6444-1777401000-1777408200@www.deltadeeproots.com
SUMMARY:Deep Roots 2026 Spring Series - Neshun @ Backdraft
DESCRIPTION:Vocalist Neshun Holmes from McComb\, Mississippi\, is a graduate of the DMI Entertainment Industry Studies program at Delta State University. She performed with the DMI All-Stars in Los Angeles as part of the GRAMMY Museum’s ‘Mississippi Night’ in 2019. She recently earned a graduate degree from Delta State while performing around town and working as a local barista.
URL:https://www.deltadeeproots.com/event/deep-roots-2026-spring-series-neshun-backdraft-2/
LOCATION:Backdraft\, 337 Cotton Row\, Cleveland\, MS\, 38732\, United States
CATEGORIES:2026 Deep roots Spring Series
ATTACH;FMTTYPE=image/jpeg:https://www.deltadeeproots.com/wp-content/uploads/2026/01/6338942520565232965.jpeg
END:VEVENT
BEGIN:VEVENT
DTSTART;TZID=America/Chicago:20260430T183000
DTEND;TZID=America/Chicago:20260430T203000
DTSTAMP:20260419T085856
CREATED:20260330T014135Z
LAST-MODIFIED:20260330T014135Z
UID:6446-1777573800-1777581000@www.deltadeeproots.com
SUMMARY:Deep Roots 2026 Spring Series - Michael 'Cadillac' Dennis @ Backdraft
DESCRIPTION:Born and raised in the Mississippi Delta\, ‘Cadillac’ Dennis’ musical journey began with singing and playing drums with the church choir as a kid.  While majoring in music at Mississippi Valley State University\, he began dabbling with guitar and piano.  This led to his playing in a number of Gospel bands in his twenties\, before starting to play guitar for various Blues artists. Dennis formed his own band\, the Big Time Rhythm & Blues Band in the spring of 2010 and booked performances throughout the South\, Northwest\, and even Hawaii.  He recently released a single\, “2X Woman”\, which he co-produced with the help of another Deep Roots musician\, Eric Edwards.
URL:https://www.deltadeeproots.com/event/deep-roots-2026-spring-series-michael-cadillac-dennis-backdraft/
LOCATION:Backdraft\, 337 Cotton Row\, Cleveland\, MS\, 38732\, United States
CATEGORIES:2026 Deep roots Spring Series
ATTACH;FMTTYPE=image/png:https://www.deltadeeproots.com/wp-content/uploads/2025/09/Cadillac-Dennis_PhotoGrid.png
END:VEVENT
END:VCALENDAR