BEGIN:VCALENDAR
VERSION:2.0
PRODID:-//Delta Deep Roots - ECPv6.15.20//NONSGML v1.0//EN
CALSCALE:GREGORIAN
METHOD:PUBLISH
X-WR-CALNAME:Delta Deep Roots
X-ORIGINAL-URL:https://www.deltadeeproots.com
X-WR-CALDESC:Events for Delta Deep Roots
REFRESH-INTERVAL;VALUE=DURATION:PT1H
X-Robots-Tag:noindex
X-PUBLISHED-TTL:PT1H
BEGIN:VTIMEZONE
TZID:America/Chicago
BEGIN:DAYLIGHT
TZOFFSETFROM:-0600
TZOFFSETTO:-0500
TZNAME:CDT
DTSTART:20220313T080000
END:DAYLIGHT
BEGIN:STANDARD
TZOFFSETFROM:-0500
TZOFFSETTO:-0600
TZNAME:CST
DTSTART:20221106T070000
END:STANDARD
BEGIN:DAYLIGHT
TZOFFSETFROM:-0600
TZOFFSETTO:-0500
TZNAME:CDT
DTSTART:20230312T080000
END:DAYLIGHT
BEGIN:STANDARD
TZOFFSETFROM:-0500
TZOFFSETTO:-0600
TZNAME:CST
DTSTART:20231105T070000
END:STANDARD
BEGIN:DAYLIGHT
TZOFFSETFROM:-0600
TZOFFSETTO:-0500
TZNAME:CDT
DTSTART:20240310T080000
END:DAYLIGHT
BEGIN:STANDARD
TZOFFSETFROM:-0500
TZOFFSETTO:-0600
TZNAME:CST
DTSTART:20241103T070000
END:STANDARD
END:VTIMEZONE
BEGIN:VEVENT
DTSTART;TZID=America/Chicago:20231207T173000
DTEND;TZID=America/Chicago:20231207T190000
DTSTAMP:20260422T183700
CREATED:20230608T162254Z
LAST-MODIFIED:20230815T024652Z
UID:3922-1701970200-1701975600@www.deltadeeproots.com
SUMMARY:Mary Claire Rackley @ Cleveland\, Mississippi - Farmer's Market
DESCRIPTION:The 2023 Cleveland Farmer’s Market wraps up its season with Mary Claire Rackley on keyboard and vocals!
URL:https://www.deltadeeproots.com/event/mary-claire-rackley-cleveland-mississippi-farmers-market/
LOCATION:Delta Arts Alliance (Outdoor Awning)\, 104 S. Court St.\, Cleveland\, MS\, 38732\, United States
CATEGORIES:Cleveland MS Farmers-Bakers-Makers Market
ATTACH;FMTTYPE=image/jpeg:https://www.deltadeeproots.com/wp-content/uploads/2023/01/MC-3.jpg
ORGANIZER;CN="Cleveland MS Farmer's Market":MAILTO:clevelandfarmersmarket@gmail.com
END:VEVENT
END:VCALENDAR