BEGIN:VCALENDAR
VERSION:2.0
PRODID:-//Delta Deep Roots - ECPv6.15.20//NONSGML v1.0//EN
CALSCALE:GREGORIAN
METHOD:PUBLISH
X-WR-CALNAME:Delta Deep Roots
X-ORIGINAL-URL:https://www.deltadeeproots.com
X-WR-CALDESC:Events for Delta Deep Roots
REFRESH-INTERVAL;VALUE=DURATION:PT1H
X-Robots-Tag:noindex
X-PUBLISHED-TTL:PT1H
BEGIN:VTIMEZONE
TZID:America/Chicago
BEGIN:DAYLIGHT
TZOFFSETFROM:-0600
TZOFFSETTO:-0500
TZNAME:CDT
DTSTART:20220313T080000
END:DAYLIGHT
BEGIN:STANDARD
TZOFFSETFROM:-0500
TZOFFSETTO:-0600
TZNAME:CST
DTSTART:20221106T070000
END:STANDARD
BEGIN:DAYLIGHT
TZOFFSETFROM:-0600
TZOFFSETTO:-0500
TZNAME:CDT
DTSTART:20230312T080000
END:DAYLIGHT
BEGIN:STANDARD
TZOFFSETFROM:-0500
TZOFFSETTO:-0600
TZNAME:CST
DTSTART:20231105T070000
END:STANDARD
BEGIN:DAYLIGHT
TZOFFSETFROM:-0600
TZOFFSETTO:-0500
TZNAME:CDT
DTSTART:20240310T080000
END:DAYLIGHT
BEGIN:STANDARD
TZOFFSETFROM:-0500
TZOFFSETTO:-0600
TZNAME:CST
DTSTART:20241103T070000
END:STANDARD
END:VTIMEZONE
BEGIN:VEVENT
DTSTART;TZID=America/Chicago:20230619T183000
DTEND;TZID=America/Chicago:20230619T203000
DTSTAMP:20260425T233402
CREATED:20230526T015728Z
LAST-MODIFIED:20230612T172050Z
UID:3864-1687199400-1687206600@www.deltadeeproots.com
SUMMARY:2023 Deep Roots Summer Series - Charles Sullivan @ Bar Fontaine
DESCRIPTION:Singer/songwriter Charles Sullivan is a member of the Delta String Band\, an Americana band based out of Greenville\, Mississippi. Similar to what the band presents\, Sullivan sings a variety of styles\, from folk and bluegrass to straight-up country. With influences like bluegrass great Ralph Stanley\, folk master John Prine\, pure country kings Johnny Cash and Waylon Jennings\, and even genre-fusing groups like the Grateful Dead\, Sullivan brings his own flavor to the music he plays\, and that “old school way” means playing music in its truest\, purest\, stripped-down form.
URL:https://www.deltadeeproots.com/event/2023-deep-roots-summer-series-danny-abraham-bar-fontaine/
LOCATION:Bar Fontaine\, 215 Cotton Row\, Cleveland\, MS\, 38732\, United States
CATEGORIES:2023 Deep Roots Summer Series
ATTACH;FMTTYPE=image/jpeg:https://www.deltadeeproots.com/wp-content/uploads/2023/06/MRP_5718-39-copy-scaled.jpg
END:VEVENT
END:VCALENDAR