BEGIN:VCALENDAR
VERSION:2.0
PRODID:-//Delta Deep Roots - ECPv6.15.20//NONSGML v1.0//EN
CALSCALE:GREGORIAN
METHOD:PUBLISH
X-ORIGINAL-URL:https://www.deltadeeproots.com
X-WR-CALDESC:Events for Delta Deep Roots
REFRESH-INTERVAL;VALUE=DURATION:PT1H
X-Robots-Tag:noindex
X-PUBLISHED-TTL:PT1H
BEGIN:VTIMEZONE
TZID:America/Chicago
BEGIN:DAYLIGHT
TZOFFSETFROM:-0600
TZOFFSETTO:-0500
TZNAME:CDT
DTSTART:20220313T080000
END:DAYLIGHT
BEGIN:STANDARD
TZOFFSETFROM:-0500
TZOFFSETTO:-0600
TZNAME:CST
DTSTART:20221106T070000
END:STANDARD
BEGIN:DAYLIGHT
TZOFFSETFROM:-0600
TZOFFSETTO:-0500
TZNAME:CDT
DTSTART:20230312T080000
END:DAYLIGHT
BEGIN:STANDARD
TZOFFSETFROM:-0500
TZOFFSETTO:-0600
TZNAME:CST
DTSTART:20231105T070000
END:STANDARD
BEGIN:DAYLIGHT
TZOFFSETFROM:-0600
TZOFFSETTO:-0500
TZNAME:CDT
DTSTART:20240310T080000
END:DAYLIGHT
BEGIN:STANDARD
TZOFFSETFROM:-0500
TZOFFSETTO:-0600
TZNAME:CST
DTSTART:20241103T070000
END:STANDARD
END:VTIMEZONE
BEGIN:VEVENT
DTSTART;TZID=America/Chicago:20230630T170000
DTEND;TZID=America/Chicago:20230630T200000
DTSTAMP:20260425T131433
CREATED:20230505T222107Z
LAST-MODIFIED:20230526T032659Z
UID:3808-1688144400-1688155200@www.deltadeeproots.com
SUMMARY:2023 Deep Roots: Live at Five - Delta String Band w/Variety
DESCRIPTION:The Delta String Band is an acoustic band playing music “the old school way.” Hailing from Greenville\, Mississippi\, the group consists of: Charles Sullivan\, guitar and vocals; Will Coppage\, banjo and vocals; David Morgan\, mandolin; and Cody Ruth\, bass and vocals. The rich\, cultural heritage of the Mississippi Delta is known for producing talented musicians\, and these players are no exception. \n\n\nThe Delta String Band is best described as an Americana band. They play a variety of styles\, from folk and bluegrass to straight-up country. With influences like bluegrass great Ralph Stanley\, folk master John Prine\, pure country kings Johnny Cash and Waylon Jennings\, and even genre-fusing groups like the Grateful Dead\, they bring their own flavor to the music they play. “The old school way” to them\, means playing music in its truest\, purest\, stripped-down form. As their sepia-toned band photo suggests\, their sound is raw and rootsy. \nOpening the show will be R&B duo Variety.
URL:https://www.deltadeeproots.com/event/2023-deep-roots-live-at-five-delta-string-band-w-variety/
LOCATION:Delta Arts Alliance (Outdoor Awning)\, 104 S. Court St.\, Cleveland\, MS\, 38732\, United States
CATEGORIES:2023 Deep Roots: Live At Five
ATTACH;FMTTYPE=image/jpeg:https://www.deltadeeproots.com/wp-content/uploads/2023/05/2023-Delta-String-Band-Cropped-scaled.jpeg
END:VEVENT
END:VCALENDAR