BEGIN:VCALENDAR
VERSION:2.0
PRODID:-//Delta Deep Roots - ECPv6.15.20//NONSGML v1.0//EN
CALSCALE:GREGORIAN
METHOD:PUBLISH
X-WR-CALNAME:Delta Deep Roots
X-ORIGINAL-URL:https://www.deltadeeproots.com
X-WR-CALDESC:Events for Delta Deep Roots
REFRESH-INTERVAL;VALUE=DURATION:PT1H
X-Robots-Tag:noindex
X-PUBLISHED-TTL:PT1H
BEGIN:VTIMEZONE
TZID:America/Chicago
BEGIN:DAYLIGHT
TZOFFSETFROM:-0600
TZOFFSETTO:-0500
TZNAME:CDT
DTSTART:20220313T080000
END:DAYLIGHT
BEGIN:STANDARD
TZOFFSETFROM:-0500
TZOFFSETTO:-0600
TZNAME:CST
DTSTART:20221106T070000
END:STANDARD
BEGIN:DAYLIGHT
TZOFFSETFROM:-0600
TZOFFSETTO:-0500
TZNAME:CDT
DTSTART:20230312T080000
END:DAYLIGHT
BEGIN:STANDARD
TZOFFSETFROM:-0500
TZOFFSETTO:-0600
TZNAME:CST
DTSTART:20231105T070000
END:STANDARD
BEGIN:DAYLIGHT
TZOFFSETFROM:-0600
TZOFFSETTO:-0500
TZNAME:CDT
DTSTART:20240310T080000
END:DAYLIGHT
BEGIN:STANDARD
TZOFFSETFROM:-0500
TZOFFSETTO:-0600
TZNAME:CST
DTSTART:20241103T070000
END:STANDARD
END:VTIMEZONE
BEGIN:VEVENT
DTSTART;TZID=America/Chicago:20230707T170000
DTEND;TZID=America/Chicago:20230707T190000
DTSTAMP:20260425T131136
CREATED:20230626T010013Z
LAST-MODIFIED:20230626T010013Z
UID:3931-1688749200-1688756400@www.deltadeeproots.com
SUMMARY:Deep Roots: Live at Five! - Jazz Persuasion w/Holley Peel
DESCRIPTION:Jazz Persuasion is composed of some of the Mississippi Delta’s finest musicians. The six-piece ensemble performs a variety of classic jazz and pop standards that are always popular at venues. This versatile group is booked regularly for wedding receptions\, rehearsal dinners\, company parties\, conventions\, restaurants\, music venues and any special occasion at which quality musical entertainment is required. The talent\, skill\, and professionalism of this group keeps Jazz Persuasion in demand. \nSinger/songwriter Holley Peel\, whose music carries a strong storytelling influence in a bluesy/ Americana style\, was born and raised in Columbus\, Mississippi\, but has settled in the Delta as her base of operations. The fourth-generation pianist started learning piano at six years old with two years of Suzuki method lessons before taking classical lessons for another eight years. Her musical favorites cover a wide variety\, including Bob Marley\, Bon Iver\, Susan Tedeschi\, Gillian Welch\, The Meters\, Glen Hansard\, Stevie Wonder\, and Ryan Adams.
URL:https://www.deltadeeproots.com/event/deep-roots-live-at-five-jazz-persuasion-w-holley-peel/
LOCATION:Ellis Theatre – Delta Arts Alliance\, 104 S. Court St.\, Cleveland\, MS\, 38732\, United States
CATEGORIES:2023 Deep Roots Summer Series
ATTACH;FMTTYPE=image/jpeg:https://www.deltadeeproots.com/wp-content/uploads/2022/05/Jazz-Persuasion-1-copy.jpg
END:VEVENT
END:VCALENDAR