BEGIN:VCALENDAR
VERSION:2.0
PRODID:-//Delta Deep Roots - ECPv6.15.20//NONSGML v1.0//EN
CALSCALE:GREGORIAN
METHOD:PUBLISH
X-WR-CALNAME:Delta Deep Roots
X-ORIGINAL-URL:https://www.deltadeeproots.com
X-WR-CALDESC:Events for Delta Deep Roots
REFRESH-INTERVAL;VALUE=DURATION:PT1H
X-Robots-Tag:noindex
X-PUBLISHED-TTL:PT1H
BEGIN:VTIMEZONE
TZID:America/Chicago
BEGIN:DAYLIGHT
TZOFFSETFROM:-0600
TZOFFSETTO:-0500
TZNAME:CDT
DTSTART:20220313T080000
END:DAYLIGHT
BEGIN:STANDARD
TZOFFSETFROM:-0500
TZOFFSETTO:-0600
TZNAME:CST
DTSTART:20221106T070000
END:STANDARD
BEGIN:DAYLIGHT
TZOFFSETFROM:-0600
TZOFFSETTO:-0500
TZNAME:CDT
DTSTART:20230312T080000
END:DAYLIGHT
BEGIN:STANDARD
TZOFFSETFROM:-0500
TZOFFSETTO:-0600
TZNAME:CST
DTSTART:20231105T070000
END:STANDARD
BEGIN:DAYLIGHT
TZOFFSETFROM:-0600
TZOFFSETTO:-0500
TZNAME:CDT
DTSTART:20240310T080000
END:DAYLIGHT
BEGIN:STANDARD
TZOFFSETFROM:-0500
TZOFFSETTO:-0600
TZNAME:CST
DTSTART:20241103T070000
END:STANDARD
END:VTIMEZONE
BEGIN:VEVENT
DTSTART;TZID=America/Chicago:20230711T183000
DTEND;TZID=America/Chicago:20230711T203000
DTSTAMP:20260425T131259
CREATED:20230626T013532Z
LAST-MODIFIED:20230626T013532Z
UID:3937-1689100200-1689107400@www.deltadeeproots.com
SUMMARY:2023 Deep Roots Summer Series - Danny Abraham @ Backdraft
DESCRIPTION:Danny Abraham\, well-known Cleveland men’s clothier\, started playing piano when he was six years old and played in bands and as a solo artist throughout his youth. “I played when I was at Ole Miss with a group that went all over recruiting students and was able to share the stage with celebrities like Bob Hope and others\,” says Abraham. When I returned to Cleveland\, to attend Delta State\, I joined the campus music group Renaissance\, and we literally toured all over the world. Even after I opened my store\, Abraham’s\, I continued to play with people whenever and wherever I could.” \nDanny’s first CD\, Don’t Worry ‘Bout Me\, was a labor of love and faith. The gospel collection of all original compositions was produced by the legendary Gordon Mote and recorded in Nashville. Abraham said he was blessed to be surrounded by a number of talented and well-known musicians on his CD. From Cleveland/Delta business legend to gospel performer\, Danny Abraham’s life is proof that with faith and hard work\, anything and everything is possible.
URL:https://www.deltadeeproots.com/event/2023-deep-roots-summer-series-danny-abraham-backdraft/
LOCATION:Backdraft\, 337 Cotton Row\, Cleveland\, MS\, 38732\, United States
CATEGORIES:2023 Deep Roots Summer Series
ATTACH;FMTTYPE=image/png:https://www.deltadeeproots.com/wp-content/uploads/2021/07/Screen-Shot-2021-07-11-at-11.43.52-PM.png
END:VEVENT
END:VCALENDAR