BEGIN:VCALENDAR
VERSION:2.0
PRODID:-//Delta Deep Roots - ECPv6.15.20//NONSGML v1.0//EN
CALSCALE:GREGORIAN
METHOD:PUBLISH
X-ORIGINAL-URL:https://www.deltadeeproots.com
X-WR-CALDESC:Events for Delta Deep Roots
REFRESH-INTERVAL;VALUE=DURATION:PT1H
X-Robots-Tag:noindex
X-PUBLISHED-TTL:PT1H
BEGIN:VTIMEZONE
TZID:America/Chicago
BEGIN:DAYLIGHT
TZOFFSETFROM:-0600
TZOFFSETTO:-0500
TZNAME:CDT
DTSTART:20220313T080000
END:DAYLIGHT
BEGIN:STANDARD
TZOFFSETFROM:-0500
TZOFFSETTO:-0600
TZNAME:CST
DTSTART:20221106T070000
END:STANDARD
BEGIN:DAYLIGHT
TZOFFSETFROM:-0600
TZOFFSETTO:-0500
TZNAME:CDT
DTSTART:20230312T080000
END:DAYLIGHT
BEGIN:STANDARD
TZOFFSETFROM:-0500
TZOFFSETTO:-0600
TZNAME:CST
DTSTART:20231105T070000
END:STANDARD
BEGIN:DAYLIGHT
TZOFFSETFROM:-0600
TZOFFSETTO:-0500
TZNAME:CDT
DTSTART:20240310T080000
END:DAYLIGHT
BEGIN:STANDARD
TZOFFSETFROM:-0500
TZOFFSETTO:-0600
TZNAME:CST
DTSTART:20241103T070000
END:STANDARD
END:VTIMEZONE
BEGIN:VEVENT
DTSTART;TZID=America/Chicago:20230720T183000
DTEND;TZID=America/Chicago:20230720T203000
DTSTAMP:20260425T131507
CREATED:20230626T015128Z
LAST-MODIFIED:20230626T015128Z
UID:3950-1689877800-1689885000@www.deltadeeproots.com
SUMMARY:2023 Deep Roots Summer Series - Delta Sun and Brisket @ Darry's Food & Drink
DESCRIPTION:Mike “Delta Sun” Slaton and Chris “Brisket” Livingston are singer/songwriters from the birthplace of American Music\, the great state of Mississippi.  They have been performing for audiences around the Southeastern United States for over 25 years.  Their original and cover songs are inspired by legendary artists such as John Prine\, Bob Dylan\, Willie Nelson\, Tom Petty\, Grateful Dead\, and Widespread Panic.  Delta Sun & Brisket are currently performing acoustic shows at local venues around the Mississippi Delta and sometimes perform with the band Pharmtruck out of Oxford\, MS.
URL:https://www.deltadeeproots.com/event/2023-deep-roots-summer-series-delta-sun-and-brisket-darrys-food-drink-2/
LOCATION:Darry’s Food & Drink\, 122 East TM Jones Hwy.\, Boyle\, MS\, 38730\, United States
CATEGORIES:2023 Deep Roots Summer Series
ATTACH;FMTTYPE=image/jpeg:https://www.deltadeeproots.com/wp-content/uploads/2022/10/Delta-Sun-Brisket.jpg
END:VEVENT
END:VCALENDAR