BEGIN:VCALENDAR
VERSION:2.0
PRODID:-//Delta Deep Roots - ECPv6.15.20//NONSGML v1.0//EN
CALSCALE:GREGORIAN
METHOD:PUBLISH
X-WR-CALNAME:Delta Deep Roots
X-ORIGINAL-URL:https://www.deltadeeproots.com
X-WR-CALDESC:Events for Delta Deep Roots
REFRESH-INTERVAL;VALUE=DURATION:PT1H
X-Robots-Tag:noindex
X-PUBLISHED-TTL:PT1H
BEGIN:VTIMEZONE
TZID:America/Chicago
BEGIN:DAYLIGHT
TZOFFSETFROM:-0600
TZOFFSETTO:-0500
TZNAME:CDT
DTSTART:20220313T080000
END:DAYLIGHT
BEGIN:STANDARD
TZOFFSETFROM:-0500
TZOFFSETTO:-0600
TZNAME:CST
DTSTART:20221106T070000
END:STANDARD
BEGIN:DAYLIGHT
TZOFFSETFROM:-0600
TZOFFSETTO:-0500
TZNAME:CDT
DTSTART:20230312T080000
END:DAYLIGHT
BEGIN:STANDARD
TZOFFSETFROM:-0500
TZOFFSETTO:-0600
TZNAME:CST
DTSTART:20231105T070000
END:STANDARD
BEGIN:DAYLIGHT
TZOFFSETFROM:-0600
TZOFFSETTO:-0500
TZNAME:CDT
DTSTART:20240310T080000
END:DAYLIGHT
BEGIN:STANDARD
TZOFFSETFROM:-0500
TZOFFSETTO:-0600
TZNAME:CST
DTSTART:20241103T070000
END:STANDARD
END:VTIMEZONE
BEGIN:VEVENT
DTSTART;TZID=America/Chicago:20230721T170000
DTEND;TZID=America/Chicago:20230721T200000
DTSTAMP:20260425T131111
CREATED:20230505T223056Z
LAST-MODIFIED:20230505T223056Z
UID:3814-1689958800-1689969600@www.deltadeeproots.com
SUMMARY:2023 Deep Roots: Live at Five - Mississippi Marshall & the Juke Daddys w/Billy Maines
DESCRIPTION:Mississippi Marshall is a singer/songwriter/guitarist raised right in the heart of the Mississippi Delta. Marshall’s original guitar stylings range from old style Delta Blues to in-your-face blues boogie. His original music reflects his life experiences and for over 30 years\, he has toured the country\, headlining Blues clubs and festivals\, including the Juke Joint Festival\, Unity Festival\, World Catfish Festival\, Que on the Yazoo\, and the Sam Chatmon Festival\, both as a solo artist and with his band\, The Juke Daddys. \n\n\nMississippi Marshall is a two-time International Blues Challenge Semi-Finalist and a Mississippi Music Foundation award winner for Best Instrumental.  He is currently working on his fourth album. \nOpening the show will be Delta singer/songwriter Billy Maines.
URL:https://www.deltadeeproots.com/event/2023-deep-roots-live-at-five-mississippi-marshall-the-juke-daddys-w-billy-maines/
LOCATION:Delta Arts Alliance (Outdoor Awning)\, 104 S. Court St.\, Cleveland\, MS\, 38732\, United States
CATEGORIES:2023 Deep Roots: Live At Five
ATTACH;FMTTYPE=image/jpeg:https://www.deltadeeproots.com/wp-content/uploads/2023/01/Mississippi-Marshall-e1672801099766.jpeg
END:VEVENT
END:VCALENDAR