BEGIN:VCALENDAR
VERSION:2.0
PRODID:-//Delta Deep Roots - ECPv6.15.20//NONSGML v1.0//EN
CALSCALE:GREGORIAN
METHOD:PUBLISH
X-ORIGINAL-URL:https://www.deltadeeproots.com
X-WR-CALDESC:Events for Delta Deep Roots
REFRESH-INTERVAL;VALUE=DURATION:PT1H
X-Robots-Tag:noindex
X-PUBLISHED-TTL:PT1H
BEGIN:VTIMEZONE
TZID:America/Chicago
BEGIN:DAYLIGHT
TZOFFSETFROM:-0600
TZOFFSETTO:-0500
TZNAME:CDT
DTSTART:20220313T080000
END:DAYLIGHT
BEGIN:STANDARD
TZOFFSETFROM:-0500
TZOFFSETTO:-0600
TZNAME:CST
DTSTART:20221106T070000
END:STANDARD
BEGIN:DAYLIGHT
TZOFFSETFROM:-0600
TZOFFSETTO:-0500
TZNAME:CDT
DTSTART:20230312T080000
END:DAYLIGHT
BEGIN:STANDARD
TZOFFSETFROM:-0500
TZOFFSETTO:-0600
TZNAME:CST
DTSTART:20231105T070000
END:STANDARD
BEGIN:DAYLIGHT
TZOFFSETFROM:-0600
TZOFFSETTO:-0500
TZNAME:CDT
DTSTART:20240310T080000
END:DAYLIGHT
BEGIN:STANDARD
TZOFFSETFROM:-0500
TZOFFSETTO:-0600
TZNAME:CST
DTSTART:20241103T070000
END:STANDARD
END:VTIMEZONE
BEGIN:VEVENT
DTSTART;TZID=America/Chicago:20230725T183000
DTEND;TZID=America/Chicago:20230725T203000
DTSTAMP:20260425T131627
CREATED:20230626T020020Z
LAST-MODIFIED:20230719T213803Z
UID:3956-1690309800-1690317000@www.deltadeeproots.com
SUMMARY:2023 Deep Roots Summer Series - Tricia Walker @ Backdraft
DESCRIPTION:Award-winning singer/songwriter Tricia Walker spent 25+ years in the music industry in Nashville before returning to her native Mississippi to develop the Delta Music Institute entertainment industry studies program at her alma mater\, Delta State University. She retired as Director Emeritus in 2019 and now\, as Music Ambassador for Cleveland\, she is focusing her creative energies on developing and promoting the Deep Roots music project through a partnership between the City of Cleveland and her company\, Big Front Porch Productions.
URL:https://www.deltadeeproots.com/event/2023-deep-roots-summer-series-mary-claire-backdraft/
LOCATION:Backdraft\, 337 Cotton Row\, Cleveland\, MS\, 38732\, United States
CATEGORIES:2023 Deep Roots Summer Series
ATTACH;FMTTYPE=image/jpeg:https://www.deltadeeproots.com/wp-content/uploads/2020/08/mail-1-scaled-e1596864408351.jpeg
END:VEVENT
END:VCALENDAR