BEGIN:VCALENDAR
VERSION:2.0
PRODID:-//Delta Deep Roots - ECPv6.15.20//NONSGML v1.0//EN
CALSCALE:GREGORIAN
METHOD:PUBLISH
X-ORIGINAL-URL:https://www.deltadeeproots.com
X-WR-CALDESC:Events for Delta Deep Roots
REFRESH-INTERVAL;VALUE=DURATION:PT1H
X-Robots-Tag:noindex
X-PUBLISHED-TTL:PT1H
BEGIN:VTIMEZONE
TZID:America/Chicago
BEGIN:DAYLIGHT
TZOFFSETFROM:-0600
TZOFFSETTO:-0500
TZNAME:CDT
DTSTART:20220313T080000
END:DAYLIGHT
BEGIN:STANDARD
TZOFFSETFROM:-0500
TZOFFSETTO:-0600
TZNAME:CST
DTSTART:20221106T070000
END:STANDARD
BEGIN:DAYLIGHT
TZOFFSETFROM:-0600
TZOFFSETTO:-0500
TZNAME:CDT
DTSTART:20230312T080000
END:DAYLIGHT
BEGIN:STANDARD
TZOFFSETFROM:-0500
TZOFFSETTO:-0600
TZNAME:CST
DTSTART:20231105T070000
END:STANDARD
BEGIN:DAYLIGHT
TZOFFSETFROM:-0600
TZOFFSETTO:-0500
TZNAME:CDT
DTSTART:20240310T080000
END:DAYLIGHT
BEGIN:STANDARD
TZOFFSETFROM:-0500
TZOFFSETTO:-0600
TZNAME:CST
DTSTART:20241103T070000
END:STANDARD
END:VTIMEZONE
BEGIN:VEVENT
DTSTART;TZID=America/Chicago:20230728T170000
DTEND;TZID=America/Chicago:20230728T200000
DTSTAMP:20260425T131506
CREATED:20230505T223952Z
LAST-MODIFIED:20230505T223952Z
UID:3816-1690563600-1690574400@www.deltadeeproots.com
SUMMARY:2023 Deep Roots: Live at Five - Keith Johnson & The Big Muddy Band
DESCRIPTION:Born in Glen Allen\, Mississippi\, Keith Johnson\, “Prince of the Delta Blues\,” is carrying on and upholding a family legacy in the entertainment industry as he is the great nephew of blues icon\, Muddy Waters.  He is also the grandson of Texcellar Fields\, blues singer from the early fifty and sixties. Keith graduated from the DMI Entertainment Industry program at Delta State University\, where\, in 2015\, he was invited to play at the International Conference on the Blues alongside GRAMMY® Award winner\, Dom Flemons. Keith has performed at the Chicago Blues Festival\, Mississippi Delta Blues and Heritage Festival\, The King Biscuit Festival\, the Great Delta Bear Festival and on international stages in Europe and Latin America.
URL:https://www.deltadeeproots.com/event/2023-deep-roots-live-at-five-keith-johnson-the-big-muddy-band/
LOCATION:Delta Arts Alliance (Outdoor Awning)\, 104 S. Court St.\, Cleveland\, MS\, 38732\, United States
CATEGORIES:2023 Deep Roots: Live At Five
ATTACH;FMTTYPE=image/jpeg:https://www.deltadeeproots.com/wp-content/uploads/2023/05/Keith-Johnson3-scaled.jpg
END:VEVENT
END:VCALENDAR