BEGIN:VCALENDAR
VERSION:2.0
PRODID:-//Delta Deep Roots - ECPv6.15.20//NONSGML v1.0//EN
CALSCALE:GREGORIAN
METHOD:PUBLISH
X-WR-CALNAME:Delta Deep Roots
X-ORIGINAL-URL:https://www.deltadeeproots.com
X-WR-CALDESC:Events for Delta Deep Roots
REFRESH-INTERVAL;VALUE=DURATION:PT1H
X-Robots-Tag:noindex
X-PUBLISHED-TTL:PT1H
BEGIN:VTIMEZONE
TZID:America/Chicago
BEGIN:DAYLIGHT
TZOFFSETFROM:-0600
TZOFFSETTO:-0500
TZNAME:CDT
DTSTART:20220313T080000
END:DAYLIGHT
BEGIN:STANDARD
TZOFFSETFROM:-0500
TZOFFSETTO:-0600
TZNAME:CST
DTSTART:20221106T070000
END:STANDARD
BEGIN:DAYLIGHT
TZOFFSETFROM:-0600
TZOFFSETTO:-0500
TZNAME:CDT
DTSTART:20230312T080000
END:DAYLIGHT
BEGIN:STANDARD
TZOFFSETFROM:-0500
TZOFFSETTO:-0600
TZNAME:CST
DTSTART:20231105T070000
END:STANDARD
BEGIN:DAYLIGHT
TZOFFSETFROM:-0600
TZOFFSETTO:-0500
TZNAME:CDT
DTSTART:20240310T080000
END:DAYLIGHT
BEGIN:STANDARD
TZOFFSETFROM:-0500
TZOFFSETTO:-0600
TZNAME:CST
DTSTART:20241103T070000
END:STANDARD
END:VTIMEZONE
BEGIN:VEVENT
DTSTART;TZID=America/Chicago:20230729T083000
DTEND;TZID=America/Chicago:20230729T103000
DTSTAMP:20260425T124131
CREATED:20230608T021525Z
LAST-MODIFIED:20230608T021525Z
UID:3908-1690619400-1690626600@www.deltadeeproots.com
SUMMARY:Tricia Walker @ Cleveland\, Mississippi - Farmer's Market
DESCRIPTION:Cleveland’s Music Ambassador\, singer/songwriter Tricia Walker\, makes a special appearance at the market!
URL:https://www.deltadeeproots.com/event/tricia-walker-cleveland-mississippi-farmers-market/
LOCATION:Cleveland MS Farmer’s Market\, 401 Cotton Row\, Cleveland\, MS\, 38732\, United States
CATEGORIES:Cleveland MS Farmers-Bakers-Makers Market
ATTACH;FMTTYPE=image/jpeg:https://www.deltadeeproots.com/wp-content/uploads/2020/08/mail-1-scaled-e1596864408351.jpeg
ORGANIZER;CN="Cleveland MS Farmer's Market":MAILTO:clevelandfarmersmarket@gmail.com
END:VEVENT
BEGIN:VEVENT
DTSTART;TZID=America/Chicago:20230729T190000
DTEND;TZID=America/Chicago:20230729T210000
DTSTAMP:20260425T124131
CREATED:20230626T020450Z
LAST-MODIFIED:20230626T020450Z
UID:3960-1690657200-1690664400@www.deltadeeproots.com
SUMMARY:2023 Deep Roots Summer Series - Alanna Mosley @ 8 West Grille
DESCRIPTION:Alanna Mosley is a singer-songwriter from Carrollton\, Mississippi. Her music—best described as Americana or roots—blurs genre lines\, and her cover tune catalog spans decades. With guitar in hand\, Mosley is an unstoppable jukebox of great music that invites the listener to keep humming along. \nAt an early age\, Mosley was soaking in her music education: 90s guitar queens Patty Griffin and Shawn Colvin\, country rockers like Dwight Yoakam and Steve Earle\, and the gauntlet of great singer-songwriters from Carole King to Brandi Carlile. She began playing guitar at the age of 12 and hasn’t quit since. Over the years\, Mosley has built an impressive repertoire of cover songs while also honing her own songwriting skills. She released an EP of original music in 2014\, and in 2016 she was the winner of the prestigious Jimmie Rodgers Songwriting Competition. After living and gigging in Charlotte\, North Carolina for several years\, she returned to the Mississippi Delta in full force. If you’re a lover of great music in need of some shade\, find out where Alanna Mosley might be playing near you at www.alannamosley.com.
URL:https://www.deltadeeproots.com/event/2023-deep-roots-summer-series-alanna-mosley-8-west-grille/
LOCATION:8 West Grille\, 1300 Hwy. 8 West\, Cleveland\, MS\, 38732\, United States
CATEGORIES:2023 Deep Roots Summer Series
ATTACH;FMTTYPE=image/jpeg:https://www.deltadeeproots.com/wp-content/uploads/2022/05/Alanna-1.jpeg
END:VEVENT
END:VCALENDAR