BEGIN:VCALENDAR
VERSION:2.0
PRODID:-//Delta Deep Roots - ECPv6.15.20//NONSGML v1.0//EN
CALSCALE:GREGORIAN
METHOD:PUBLISH
X-ORIGINAL-URL:https://www.deltadeeproots.com
X-WR-CALDESC:Events for Delta Deep Roots
REFRESH-INTERVAL;VALUE=DURATION:PT1H
X-Robots-Tag:noindex
X-PUBLISHED-TTL:PT1H
BEGIN:VTIMEZONE
TZID:America/Chicago
BEGIN:DAYLIGHT
TZOFFSETFROM:-0600
TZOFFSETTO:-0500
TZNAME:CDT
DTSTART:20220313T080000
END:DAYLIGHT
BEGIN:STANDARD
TZOFFSETFROM:-0500
TZOFFSETTO:-0600
TZNAME:CST
DTSTART:20221106T070000
END:STANDARD
BEGIN:DAYLIGHT
TZOFFSETFROM:-0600
TZOFFSETTO:-0500
TZNAME:CDT
DTSTART:20230312T080000
END:DAYLIGHT
BEGIN:STANDARD
TZOFFSETFROM:-0500
TZOFFSETTO:-0600
TZNAME:CST
DTSTART:20231105T070000
END:STANDARD
BEGIN:DAYLIGHT
TZOFFSETFROM:-0600
TZOFFSETTO:-0500
TZNAME:CDT
DTSTART:20240310T080000
END:DAYLIGHT
BEGIN:STANDARD
TZOFFSETFROM:-0500
TZOFFSETTO:-0600
TZNAME:CST
DTSTART:20241103T070000
END:STANDARD
END:VTIMEZONE
BEGIN:VEVENT
DTSTART;TZID=America/Chicago:20230812T083000
DTEND;TZID=America/Chicago:20230812T103000
DTSTAMP:20260423T072347
CREATED:20230608T160751Z
LAST-MODIFIED:20230608T160751Z
UID:3912-1691829000-1691836200@www.deltadeeproots.com
SUMMARY:Alanna Mosley @ Cleveland\, Mississippi - Farmer's Market
DESCRIPTION:Singer/songwriter Alanna Mosley shares her musical style with market patrons this week!
URL:https://www.deltadeeproots.com/event/alanna-mosley-cleveland-mississippi-farmers-market/
LOCATION:Cleveland MS Farmer’s Market\, 401 Cotton Row\, Cleveland\, MS\, 38732\, United States
CATEGORIES:Cleveland MS Farmers-Bakers-Makers Market
ATTACH;FMTTYPE=image/jpeg:https://www.deltadeeproots.com/wp-content/uploads/2023/01/Alanna-Mosley.jpeg
ORGANIZER;CN="Cleveland MS Farmer's Market":MAILTO:clevelandfarmersmarket@gmail.com
END:VEVENT
END:VCALENDAR